BEGIN:VCALENDAR
VERSION:2.0
BEGIN:VEVENT
URL:https://www.mychroma.gr/2013-01-11-15-56-05/events/viewevent/5-bikeart-gr-poster-exhibition-2013 
DTSTART:20130412T190000
DTEND:20130414T230000
SUMMARY:BIKEART.gr POSTER EXHIBITION 2013
DESCRIPTION:
LOCATION:Ευπόλιδος 4 & Απελλού 2, πλ. κοντζια
END:VEVENT
END:VCALENDAR