BEGIN:VCALENDAR
VERSION:2.0
BEGIN:VEVENT
URL:https://www.mychroma.gr/2013-01-11-15-56-05/events/viewevent/8-parousiasi-proionton-dewalt-sto-katastima-tou-ksydea-sti-glyfada 
DTSTART:20140918T090000
DTEND:20140918T200000
SUMMARY:Παρουσίαση προιόντων DeWALT στο κατάστημα του ΞΥΔΕΑ στη Γλυφάδα
DESCRIPTION:<p>ΤΗΝ ΠΕΜΠΤΗ 18/9/2014 ΤΟ ΚΑΤΑΣΤΗΜΑ ΞΥΔΕΑΣ ΣΕ ΣΥΝΕΡΓΑΣΙΑ ΜΕ ΤΗ DeWALT ΘΑ ΕΧΕΙ ΟΛΑ ΤΑ ΕΡΓΑΛΕΙΑ ΓΙΑ ΝΑ ΤΑ ΔΟΚΙΜΑΣΕΤΕ ΣΕ ΠΡΑΓΜΑΤΙΚΕΣ ΣΥΝΘΗΚΕΣ , ΝΑ ΒΙΔΩΣΕΤΕ ΝΑ ΚΟΨΕΤΕ ....<br />ΟΣΟΙ ΕΠΙΣΚΕΠΤΕΣ ΕΠΙΘΥΜΟΥΝ ΝΑ ΑΓΟΡΑΣΟΥΝ ΘΑ ΕΧΟΥΝ ΕΙΔΙΚΗ ΤΙΜΗ ...ΚΑΙ ΔΩΡΑ .....</p>
LOCATION:Οδος Γούναρη 166, Γλυφάδα
END:VEVENT
END:VCALENDAR